BEGIN:VCALENDAR
VERSION:2.0
PRODID:-//Nichols Improvement Association - ECPv6.15.20//NONSGML v1.0//EN
CALSCALE:GREGORIAN
METHOD:PUBLISH
X-ORIGINAL-URL:https://niatrumbull.org
X-WR-CALDESC:Events for Nichols Improvement Association
REFRESH-INTERVAL;VALUE=DURATION:PT1H
X-Robots-Tag:noindex
X-PUBLISHED-TTL:PT1H
BEGIN:VTIMEZONE
TZID:America/New_York
BEGIN:DAYLIGHT
TZOFFSETFROM:-0500
TZOFFSETTO:-0400
TZNAME:EDT
DTSTART:20220313T070000
END:DAYLIGHT
BEGIN:STANDARD
TZOFFSETFROM:-0400
TZOFFSETTO:-0500
TZNAME:EST
DTSTART:20221106T060000
END:STANDARD
BEGIN:DAYLIGHT
TZOFFSETFROM:-0500
TZOFFSETTO:-0400
TZNAME:EDT
DTSTART:20230312T070000
END:DAYLIGHT
BEGIN:STANDARD
TZOFFSETFROM:-0400
TZOFFSETTO:-0500
TZNAME:EST
DTSTART:20231105T060000
END:STANDARD
BEGIN:DAYLIGHT
TZOFFSETFROM:-0500
TZOFFSETTO:-0400
TZNAME:EDT
DTSTART:20240310T070000
END:DAYLIGHT
BEGIN:STANDARD
TZOFFSETFROM:-0400
TZOFFSETTO:-0500
TZNAME:EST
DTSTART:20241103T060000
END:STANDARD
END:VTIMEZONE
BEGIN:VEVENT
DTSTART;TZID=America/New_York:20230817T160000
DTEND;TZID=America/New_York:20230817T190000
DTSTAMP:20260421T070919
CREATED:20230516T054851Z
LAST-MODIFIED:20230921T162231Z
UID:10001374-1692288000-1692298800@niatrumbull.org
SUMMARY:Nichols Farmers Market
DESCRIPTION:
URL:https://niatrumbull.org/event/nichols-farmers-market-2/2023-08-17/
LOCATION:Starkweather House – 1773 Huntington Turnpike\, Trumbull\, CT 06611\, USA\, 1773 Huntington Turnpike\, Trumbull\, CT\, 06611\, United States
CATEGORIES:Nichols Farmers Market
ATTACH;FMTTYPE=image/webp:https://niatrumbull.org/wp-content/uploads/2023/05/Screenshot-2023-03-29-at-10_11_28-PM-2.webp
END:VEVENT
BEGIN:VEVENT
DTSTART;TZID=America/New_York:20230817T160000
DTEND;TZID=America/New_York:20230817T190000
DTSTAMP:20260421T070919
CREATED:20230808T011904Z
LAST-MODIFIED:20230808T011904Z
UID:10001347-1692288000-1692298800@niatrumbull.org
SUMMARY:Peace At OM
DESCRIPTION:Wendy Simmons-Taylor & Robert Ortner are two like-minded musicians and yogis who want to spread peace\, love\, and harmony throughout the land! They are multi-instrumentalists\, providing acoustic/electric guitar and bass and harmonium\, with friends on keyboards\, drums and flute. “Peace at Om”\, their self-titled CD\, was released in 2020\, with their follow-up released in 2022\, “Tomorrow Never Knows”.  Wendy and Robert are currently at work on their third CD to be released this summer! Peace at Om was created with tender\, loving care and gratitude as they continue on their musical journey to write original music dedicated to all people seeking peace and equality. Welcome back to NFM Wendy and Robert!\nFollow on social:\nFacebook: PeaceAtOmMusic\nYouTube: PeaceAtOm\nwww.butchtaylor.com/peace-at-om\nwww.peace-at-om.bandcamp.com\nCDs available on all streaming platforms: https://peace-at-om.hearnow.com/
URL:https://niatrumbull.org/event/peace-at-om/
CATEGORIES:Nichols Farmers Market
ATTACH;FMTTYPE=image/jpeg:https://niatrumbull.org/wp-content/uploads/2023/08/a1977173873_16.jpg
END:VEVENT
BEGIN:VEVENT
DTSTART;TZID=America/New_York:20230824T160000
DTEND;TZID=America/New_York:20230824T190000
DTSTAMP:20260421T070919
CREATED:20230516T054851Z
LAST-MODIFIED:20230921T162231Z
UID:10001375-1692892800-1692903600@niatrumbull.org
SUMMARY:Nichols Farmers Market
DESCRIPTION:
URL:https://niatrumbull.org/event/nichols-farmers-market-2/2023-08-24/
LOCATION:Starkweather House – 1773 Huntington Turnpike\, Trumbull\, CT 06611\, USA\, 1773 Huntington Turnpike\, Trumbull\, CT\, 06611\, United States
CATEGORIES:Nichols Farmers Market
ATTACH;FMTTYPE=image/webp:https://niatrumbull.org/wp-content/uploads/2023/05/Screenshot-2023-03-29-at-10_11_28-PM-2.webp
END:VEVENT
BEGIN:VEVENT
DTSTART;TZID=America/New_York:20230824T160000
DTEND;TZID=America/New_York:20230824T190000
DTSTAMP:20260421T070919
CREATED:20230808T012424Z
LAST-MODIFIED:20230808T012530Z
UID:10001348-1692892800-1692903600@niatrumbull.org
SUMMARY:Sal Basile
DESCRIPTION:Sal Basile has been performing for the past 30 years. High energy\, audience engaging and dynamic entertaining is what Sal is all about. A retired English teacher of 35 years from Hartford Public Schools\, he always kept his hands and voice steeped in singing and guitar. Sal’s repertoire includes songs from Dion to Adele\, Elvis to Harry Styles\, Beatles to Journey\, and Chuck Berry to Ed Sheeran…all fun\, happy and entertaining! We are excited to welcome Sal to NFM this season!\nFollow on social:\nFacebook: Salvatore Basile\nInstagram: @turimio50
URL:https://niatrumbull.org/event/sal-basile/
CATEGORIES:Nichols Farmers Market
ATTACH;FMTTYPE=image/jpeg:https://niatrumbull.org/wp-content/uploads/2023/08/362278062_749638087168827_2496104163539129103_n.jpg
END:VEVENT
BEGIN:VEVENT
DTSTART;TZID=America/New_York:20230826T053000
DTEND;TZID=America/New_York:20230826T063000
DTSTAMP:20260421T070919
CREATED:20230805T032335Z
LAST-MODIFIED:20230811T015816Z
UID:10001344-1693027800-1693031400@niatrumbull.org
SUMMARY:Toddler Music Class at the NIA!
DESCRIPTION:Come down to the NIA house for a free toddler music class! Dance with your little 1-4 year old while meeting and chatting with other members. This workshop will be held on August 26th at 9:30am. Please sign up because space is limited! \nMeet our instructor 🎼: Angie Hudak is a certified MusikGarten teacher and has been teaching early childhood music classes for 20 years. She holds a Bachelors in Music Performance and Masters in Music Education from the University of Miami\, FL.
URL:https://niatrumbull.org/event/toddler-music-class-at-the-nia/
LOCATION:Starkweather House – 1773 Huntington Turnpike\, Trumbull\, CT 06611\, USA\, 1773 Huntington Turnpike\, Trumbull\, CT\, 06611\, United States
CATEGORIES:Workshops
ATTACH;FMTTYPE=image/jpeg:https://niatrumbull.org/wp-content/uploads/2023/08/MTPic85-web.jpg
ORGANIZER;CN="Nichols Improvement Association":MAILTO:events@niatrumbull.org
END:VEVENT
BEGIN:VEVENT
DTSTART;TZID=America/New_York:20230831T160000
DTEND;TZID=America/New_York:20230831T190000
DTSTAMP:20260421T070919
CREATED:20230516T054851Z
LAST-MODIFIED:20230921T162231Z
UID:10001376-1693497600-1693508400@niatrumbull.org
SUMMARY:Nichols Farmers Market
DESCRIPTION:
URL:https://niatrumbull.org/event/nichols-farmers-market-2/2023-08-31/
LOCATION:Starkweather House – 1773 Huntington Turnpike\, Trumbull\, CT 06611\, USA\, 1773 Huntington Turnpike\, Trumbull\, CT\, 06611\, United States
CATEGORIES:Nichols Farmers Market
ATTACH;FMTTYPE=image/webp:https://niatrumbull.org/wp-content/uploads/2023/05/Screenshot-2023-03-29-at-10_11_28-PM-2.webp
END:VEVENT
BEGIN:VEVENT
DTSTART;TZID=America/New_York:20230831T160000
DTEND;TZID=America/New_York:20230831T190000
DTSTAMP:20260421T070919
CREATED:20230830T014210Z
LAST-MODIFIED:20230830T014210Z
UID:10001359-1693497600-1693508400@niatrumbull.org
SUMMARY:Wendy & Shag
DESCRIPTION:Performing at the Farmers Market on August 31st!
URL:https://niatrumbull.org/event/wendy-shag/
CATEGORIES:Nichols Farmers Market
ATTACH;FMTTYPE=image/jpeg:https://niatrumbull.org/wp-content/uploads/2023/08/livemusic.jpg
END:VEVENT
BEGIN:VEVENT
DTSTART;TZID=America/New_York:20230907T160000
DTEND;TZID=America/New_York:20230907T190000
DTSTAMP:20260421T070919
CREATED:20230516T054851Z
LAST-MODIFIED:20230921T162231Z
UID:10001377-1694102400-1694113200@niatrumbull.org
SUMMARY:Nichols Farmers Market
DESCRIPTION:
URL:https://niatrumbull.org/event/nichols-farmers-market-2/2023-09-07/
LOCATION:Starkweather House – 1773 Huntington Turnpike\, Trumbull\, CT 06611\, USA\, 1773 Huntington Turnpike\, Trumbull\, CT\, 06611\, United States
CATEGORIES:Nichols Farmers Market
ATTACH;FMTTYPE=image/webp:https://niatrumbull.org/wp-content/uploads/2023/05/Screenshot-2023-03-29-at-10_11_28-PM-2.webp
END:VEVENT
BEGIN:VEVENT
DTSTART;TZID=America/New_York:20230907T160000
DTEND;TZID=America/New_York:20230907T190000
DTSTAMP:20260421T070919
CREATED:20230808T102544Z
LAST-MODIFIED:20230808T104227Z
UID:10001350-1694102400-1694113200@niatrumbull.org
SUMMARY:Fred & Ethel
DESCRIPTION:An eclectic acoustic duo who love to travel through the decades with music. Performing for the past 10 years throughout Fairfield County\, Fred and Ethel love to entertain people from toddlers to centenarians with their harmonies\, wit and songs. NFM is tickled to welcome Fred and Ethel back to our party this season!\nFollow on social:\nFacebook: Fred and Ethel Music
URL:https://niatrumbull.org/event/fred-ethel/2023-09-07/
CATEGORIES:Nichols Farmers Market
ATTACH;FMTTYPE=image/jpeg:https://niatrumbull.org/wp-content/uploads/2023/08/162725334_181821717080964_8722268127490281227_n.jpg
END:VEVENT
BEGIN:VEVENT
DTSTART;TZID=America/New_York:20230914T160000
DTEND;TZID=America/New_York:20230914T190000
DTSTAMP:20260421T070919
CREATED:20230516T054851Z
LAST-MODIFIED:20230921T162231Z
UID:10001378-1694707200-1694718000@niatrumbull.org
SUMMARY:Nichols Farmers Market
DESCRIPTION:
URL:https://niatrumbull.org/event/nichols-farmers-market-2/2023-09-14/
LOCATION:Starkweather House – 1773 Huntington Turnpike\, Trumbull\, CT 06611\, USA\, 1773 Huntington Turnpike\, Trumbull\, CT\, 06611\, United States
CATEGORIES:Nichols Farmers Market
ATTACH;FMTTYPE=image/webp:https://niatrumbull.org/wp-content/uploads/2023/05/Screenshot-2023-03-29-at-10_11_28-PM-2.webp
END:VEVENT
BEGIN:VEVENT
DTSTART;TZID=America/New_York:20230914T160000
DTEND;TZID=America/New_York:20230914T190000
DTSTAMP:20260421T070919
CREATED:20230808T102835Z
LAST-MODIFIED:20230808T102908Z
UID:10001351-1694707200-1694718000@niatrumbull.org
SUMMARY:Ryan Collins
DESCRIPTION:Ryan has been performing for live audiences since the late 90’s\, where he started his live music career running an Open Mic Night at the historic Own Lee Place in Clarks Summit\, PA. Musical roots range from Acoustic Blues\, Rock\, Funk\, Reggae and R&B. You may have seen Ryan perform at Fayerweather Yacht Club in Bridgeport\, where he has had a residency since 2008. He has also played frequently at BRYAC\, Tautog Tavern\, and the Black Duck in Westport. Ryan is excited to once-again open our NFM season\, and will be joining us for several more dates this summer! \nFollow on social: Soundcloud: arcproject
URL:https://niatrumbull.org/event/ryan-collins/
CATEGORIES:Nichols Farmers Market
ATTACH;FMTTYPE=image/webp:https://niatrumbull.org/wp-content/uploads/2023/08/33209222-9945-4683-873c-778d5018a603cr_0.62.828.webp
END:VEVENT
BEGIN:VEVENT
DTSTART;TZID=America/New_York:20230916T170000
DTEND;TZID=America/New_York:20230916T190000
DTSTAMP:20260421T070919
CREATED:20230802T224949Z
LAST-MODIFIED:20230912T220530Z
UID:10001337-1694883600-1694890800@niatrumbull.org
SUMMARY:Member Family Night and Music Under the Stars
DESCRIPTION:We hope you can join us for a family night and music under the stars to show our appreciation to our members! Feel free to bring snacks or a picnic dinner to enjoy on the NIA lawn\, along with chairs or blankets. The Taste Garden Cafe will be there for any members that would like to purchase dinner. Jukebox Radio will be playing 5-7 pm in the gazebo\, there will be an ice cream provided by College Creamery truck 6-7 pm\, and fun for all. This event is free and for 2023 NIA Members only. Advance RSVP is required\, so we can know how many to expect. Please contact Aarika at events@niatrumbull.org with any questions.
URL:https://niatrumbull.org/event/family-night/
ATTACH;FMTTYPE=image/png:https://niatrumbull.org/wp-content/uploads/2023/08/Red-and-White-Minimalist-Picnic-in-the-Park-Instagram-Post.png
END:VEVENT
BEGIN:VEVENT
DTSTART;TZID=America/New_York:20230921T160000
DTEND;TZID=America/New_York:20230921T190000
DTSTAMP:20260421T070919
CREATED:20230516T054851Z
LAST-MODIFIED:20230921T162231Z
UID:10001379-1695312000-1695322800@niatrumbull.org
SUMMARY:Nichols Farmers Market
DESCRIPTION:
URL:https://niatrumbull.org/event/nichols-farmers-market-2/2023-09-21/
LOCATION:Starkweather House – 1773 Huntington Turnpike\, Trumbull\, CT 06611\, USA\, 1773 Huntington Turnpike\, Trumbull\, CT\, 06611\, United States
CATEGORIES:Nichols Farmers Market
ATTACH;FMTTYPE=image/webp:https://niatrumbull.org/wp-content/uploads/2023/05/Screenshot-2023-03-29-at-10_11_28-PM-2.webp
END:VEVENT
BEGIN:VEVENT
DTSTART;TZID=America/New_York:20230921T160000
DTEND;TZID=America/New_York:20230921T190000
DTSTAMP:20260421T070919
CREATED:20230808T011514Z
LAST-MODIFIED:20230829T014209Z
UID:10001358-1695312000-1695322800@niatrumbull.org
SUMMARY:Liz Reed
DESCRIPTION:Liz Reed is a dynamic singer/songwriter from the Hartford area. Her upbeat and introspective original songs will make you laugh\, and maybe even sing along. Liz also performs fun pop songs from the last 5 or 6 decades\, so come prepared to move\, clap and have a great time! Liz is making her NFM debut with us this season!\nFollow on social:\nYouTube and TikTok: @songwriterliz\nFacebook: lizreedmusic www.lizreedmusic.com
URL:https://niatrumbull.org/event/liz-reed-farmers-market/2023-09-21/
CATEGORIES:Nichols Farmers Market
ATTACH;FMTTYPE=image/jpeg:https://niatrumbull.org/wp-content/uploads/2023/08/Wagon.jpg
END:VEVENT
BEGIN:VEVENT
DTSTART;TZID=America/New_York:20230928T160000
DTEND;TZID=America/New_York:20230928T190000
DTSTAMP:20260421T070919
CREATED:20230516T054851Z
LAST-MODIFIED:20230921T162231Z
UID:10001380-1695916800-1695927600@niatrumbull.org
SUMMARY:Nichols Farmers Market
DESCRIPTION:
URL:https://niatrumbull.org/event/nichols-farmers-market-2/2023-09-28/
LOCATION:Starkweather House – 1773 Huntington Turnpike\, Trumbull\, CT 06611\, USA\, 1773 Huntington Turnpike\, Trumbull\, CT\, 06611\, United States
CATEGORIES:Nichols Farmers Market
ATTACH;FMTTYPE=image/webp:https://niatrumbull.org/wp-content/uploads/2023/05/Screenshot-2023-03-29-at-10_11_28-PM-2.webp
END:VEVENT
BEGIN:VEVENT
DTSTART;TZID=America/New_York:20230928T160000
DTEND;TZID=America/New_York:20230928T190000
DTSTAMP:20260421T070919
CREATED:20230808T103408Z
LAST-MODIFIED:20230808T103408Z
UID:10001353-1695916800-1695927600@niatrumbull.org
SUMMARY:The Sawtelles
DESCRIPTION:Married duo the Sawtelles are a balance of four elements\, guitar predominantly in alternate tunings\, various drum kit configurations\, and two voices. Sparse but intricately arranged pop that is as lush as it is threadbare makes what is played as important as what isn’t. The Sawtelles are looking forward to being back at NFM this season\, and we are happy to have them! \nFollow on social: \nFacebook: theSawtelles \nwww.thesawtelles.bandcamp.com
URL:https://niatrumbull.org/event/the-sawtelles/
CATEGORIES:Nichols Farmers Market
ATTACH;FMTTYPE=image/jpeg:https://niatrumbull.org/wp-content/uploads/2023/08/306672956_565830118815177_9079449795253925401_n.jpg
END:VEVENT
BEGIN:VEVENT
DTSTART;TZID=America/New_York:20231005T160000
DTEND;TZID=America/New_York:20231005T190000
DTSTAMP:20260421T070919
CREATED:20230516T054851Z
LAST-MODIFIED:20230921T162231Z
UID:10001381-1696521600-1696532400@niatrumbull.org
SUMMARY:Nichols Farmers Market
DESCRIPTION:
URL:https://niatrumbull.org/event/nichols-farmers-market-2/2023-10-05/
LOCATION:Starkweather House – 1773 Huntington Turnpike\, Trumbull\, CT 06611\, USA\, 1773 Huntington Turnpike\, Trumbull\, CT\, 06611\, United States
CATEGORIES:Nichols Farmers Market
ATTACH;FMTTYPE=image/webp:https://niatrumbull.org/wp-content/uploads/2023/05/Screenshot-2023-03-29-at-10_11_28-PM-2.webp
END:VEVENT
BEGIN:VEVENT
DTSTART;TZID=America/New_York:20231005T160000
DTEND;TZID=America/New_York:20231005T190000
DTSTAMP:20260421T070919
CREATED:20230808T103633Z
LAST-MODIFIED:20230808T103633Z
UID:10001354-1696521600-1696532400@niatrumbull.org
SUMMARY:Roamer
DESCRIPTION:Hailing from Trumbull\, Roamer has been a staple on the vibrant Black Rock music scene for two decades. The band’s versatile style touches upon Americana and Folk Rock — combining their thoughtful\, original sound and interesting selection of covers. Whether you hear the full 6-piece experience\, one of their smaller renditions\, or Tim Sather solo\, listeners are left with lyrics and music that stays with them. “Roamer carries on The Band’s tradition of modernized Americana and well-construed roots rock.” — Fairfield Weekly. NFM is proud to have Roamer making their debut with this season!\nFollow on social:\nFacebook: Roamericanmusic www.roamermusic.bandcamp.com
URL:https://niatrumbull.org/event/roamer/
CATEGORIES:Nichols Farmers Market
ATTACH;FMTTYPE=image/jpeg:https://niatrumbull.org/wp-content/uploads/2023/08/353673906_733258002139187_6695104582396378845_n.jpg
END:VEVENT
BEGIN:VEVENT
DTSTART;TZID=America/New_York:20231012T160000
DTEND;TZID=America/New_York:20231012T190000
DTSTAMP:20260421T070919
CREATED:20230516T054851Z
LAST-MODIFIED:20230921T162231Z
UID:10001382-1697126400-1697137200@niatrumbull.org
SUMMARY:Nichols Farmers Market
DESCRIPTION:
URL:https://niatrumbull.org/event/nichols-farmers-market-2/2023-10-12/
LOCATION:Starkweather House – 1773 Huntington Turnpike\, Trumbull\, CT 06611\, USA\, 1773 Huntington Turnpike\, Trumbull\, CT\, 06611\, United States
CATEGORIES:Nichols Farmers Market
ATTACH;FMTTYPE=image/webp:https://niatrumbull.org/wp-content/uploads/2023/05/Screenshot-2023-03-29-at-10_11_28-PM-2.webp
END:VEVENT
BEGIN:VEVENT
DTSTART;TZID=America/New_York:20231012T160000
DTEND;TZID=America/New_York:20231012T190000
DTSTAMP:20260421T070919
CREATED:20230808T104054Z
LAST-MODIFIED:20230808T104054Z
UID:10001355-1697126400-1697137200@niatrumbull.org
SUMMARY:Purvis
DESCRIPTION:Retired from corporate America\, Purvis (aka PJ Boatwright) is a singer\, songwriter\, guitar player and Verified Artist on Spotify. His repertoire is about 1⁄3 originals (most amusing\, self-deprecating stories) and 2⁄3 covers of songs that haven’t been played to death and will make you tap your \n   feet. Cover artists include Tom Petty\, Johnny Cash\, John Hiatt\, Bob Dylan\, the Clash\, Nirvana\, Elvis Costello and more! We are excited to welcome Purvis to NFM this season! \nFollow on social: \nFacebook: PJBThree \nInstagram: @purvisboatwright
URL:https://niatrumbull.org/event/purvis/
CATEGORIES:Nichols Farmers Market
ATTACH;FMTTYPE=image/jpeg:https://niatrumbull.org/wp-content/uploads/2023/08/12938208_10153324648251504_9075552667355820324_n.jpg
END:VEVENT
BEGIN:VEVENT
DTSTART;TZID=America/New_York:20231019T160000
DTEND;TZID=America/New_York:20231019T190000
DTSTAMP:20260421T070919
CREATED:20230516T054851Z
LAST-MODIFIED:20230921T162231Z
UID:10001383-1697731200-1697742000@niatrumbull.org
SUMMARY:Nichols Farmers Market
DESCRIPTION:
URL:https://niatrumbull.org/event/nichols-farmers-market-2/2023-10-19/
LOCATION:Starkweather House – 1773 Huntington Turnpike\, Trumbull\, CT 06611\, USA\, 1773 Huntington Turnpike\, Trumbull\, CT\, 06611\, United States
CATEGORIES:Nichols Farmers Market
ATTACH;FMTTYPE=image/webp:https://niatrumbull.org/wp-content/uploads/2023/05/Screenshot-2023-03-29-at-10_11_28-PM-2.webp
END:VEVENT
BEGIN:VEVENT
DTSTART;TZID=America/New_York:20231019T160000
DTEND;TZID=America/New_York:20231019T190000
DTSTAMP:20260421T070919
CREATED:20230808T102544Z
LAST-MODIFIED:20230808T104227Z
UID:10001356-1697731200-1697742000@niatrumbull.org
SUMMARY:Fred & Ethel
DESCRIPTION:An eclectic acoustic duo who love to travel through the decades with music. Performing for the past 10 years throughout Fairfield County\, Fred and Ethel love to entertain people from toddlers to centenarians with their harmonies\, wit and songs. NFM is tickled to welcome Fred and Ethel back to our party this season!\nFollow on social:\nFacebook: Fred and Ethel Music
URL:https://niatrumbull.org/event/fred-ethel/2023-10-19/
CATEGORIES:Nichols Farmers Market
ATTACH;FMTTYPE=image/jpeg:https://niatrumbull.org/wp-content/uploads/2023/08/162725334_181821717080964_8722268127490281227_n.jpg
END:VEVENT
BEGIN:VEVENT
DTSTART;TZID=America/New_York:20231022T140000
DTEND;TZID=America/New_York:20231022T170000
DTSTAMP:20260421T070919
CREATED:20230802T222248Z
LAST-MODIFIED:20230927T011402Z
UID:10001340-1697983200-1697994000@niatrumbull.org
SUMMARY:Halloween Parade
DESCRIPTION:We hope you can join us for our annual Halloween Parade! This year\, we are pairing up with Trumbull Historical Society to make it extra special! Meet us in your costumes at 2pm on the NIA Green to check in and for our annual costume contest. We will then begin walking together from the NIA Green and parade down the sidewalk along Huntington Turnpike\, concluding our parade at the Trumbull Historical Society. Waiting for you at the Trumbull Historical Society will be fun games\, crafts\, snacks\, storytelling\, and more! It is sure to be an afternoon filled with festivities in the heart of historic Nichols. Stay tuned for more details about a pumpkin carving contest! Please contact Aarika at events@niatrumbull.org with any questions.
URL:https://niatrumbull.org/event/annual-halloween-parade/
ATTACH;FMTTYPE=image/png:https://niatrumbull.org/wp-content/uploads/2023/08/3.png
ORGANIZER;CN="Nichols Improvement Association":MAILTO:events@niatrumbull.org
END:VEVENT
BEGIN:VEVENT
DTSTART;TZID=America/New_York:20231026T160000
DTEND;TZID=America/New_York:20231026T190000
DTSTAMP:20260421T070919
CREATED:20230516T054851Z
LAST-MODIFIED:20230921T162231Z
UID:10001384-1698336000-1698346800@niatrumbull.org
SUMMARY:Nichols Farmers Market
DESCRIPTION:
URL:https://niatrumbull.org/event/nichols-farmers-market-2/2023-10-26/
LOCATION:Starkweather House – 1773 Huntington Turnpike\, Trumbull\, CT 06611\, USA\, 1773 Huntington Turnpike\, Trumbull\, CT\, 06611\, United States
CATEGORIES:Nichols Farmers Market
ATTACH;FMTTYPE=image/webp:https://niatrumbull.org/wp-content/uploads/2023/05/Screenshot-2023-03-29-at-10_11_28-PM-2.webp
END:VEVENT
BEGIN:VEVENT
DTSTART;TZID=America/New_York:20231104T183000
DTEND;TZID=America/New_York:20231104T220000
DTSTAMP:20260421T070919
CREATED:20230405T103052Z
LAST-MODIFIED:20231027T095417Z
UID:10000010-1699122600-1699135200@niatrumbull.org
SUMMARY:Fall Beer and Wine Night
DESCRIPTION:The crisp air\, the changing leaves\, and the cozy vibes of fall are finally here! What better way to embrace the season than by joining us for the return of the highly anticipated NIA Fall Beer and Wine Night? 🍷🍻 \n📅 Date: November 4\, 2023\n🕕 Time: 6:30pm – 10:00pm\n🏢 Location: NIA (1773 Huntington Tpke\, Trumbull\, CT 06611) \nPrepare your taste buds for an amazing evening filled with the finest selection of local craft beers and wines. Whether you’re a seasoned connoisseur or a casual enthusiast\, our event promises something for everyone. \n🍂 A Diverse Selection: Savor a range of handpicked craft beers and wines that reflect the rich flavors of the season. From robust reds to crisp whites\, from hoppy IPAs to smooth stouts\, there’s something to satisfy every palate. \n🐎Professional Bartenders: We’ve teamed up with The Vintage Horse\, a Trumbull-based mobile bar\, to provide an elevated experience for everyone to enjoy! \nWe’ve also lined up an evening full of entertainment and activities to keep the excitement flowing: \n🎶 Live Music: Groove to the tunes of JukeBox Radio as they set the mood for the night. \n🍕 Delicious Eats: Enjoy delectable goodies that pair perfectly with your beverages. \nDon’t miss out on this fantastic opportunity to socialize\, unwind\, and celebrate the season with the NIA community. Tickets will sell out fast\, so secure your spot today. This event is open to members ($60 each person) and non-members ($65 each person). All attendees must be 21 and over. \nCome raise a glass to fall with us at the NIA Fall Beer and Wine Night\, and let’s make this an unforgettable evening together. We can’t wait to see you there!
URL:https://niatrumbull.org/event/adult-night-out-fall-wine-and-beer-night/
LOCATION:Starkweather House – 1773 Huntington Turnpike\, Trumbull\, CT 06611\, USA\, 1773 Huntington Turnpike\, Trumbull\, CT\, 06611\, United States
ATTACH;FMTTYPE=image/png:https://niatrumbull.org/wp-content/uploads/2023/08/4.png
END:VEVENT
BEGIN:VEVENT
DTSTART;TZID=America/New_York:20231202T030000
DTEND;TZID=America/New_York:20231202T070000
DTSTAMP:20260421T070919
CREATED:20230802T224702Z
LAST-MODIFIED:20230802T224913Z
UID:10001342-1701486000-1701500400@niatrumbull.org
SUMMARY:NIA Jingle Bell Run 5K
DESCRIPTION:
URL:https://niatrumbull.org/event/nia-jingle-bell-run-5k/
ATTACH;FMTTYPE=image/png:https://niatrumbull.org/wp-content/uploads/2023/08/6.png
END:VEVENT
BEGIN:VEVENT
DTSTART;TZID=America/New_York:20231203T150000
DTEND;TZID=America/New_York:20231203T170000
DTSTAMP:20260421T070919
CREATED:20230924T235950Z
LAST-MODIFIED:20231112T114808Z
UID:10001387-1701615600-1701622800@niatrumbull.org
SUMMARY:Kids' Holiday Party
DESCRIPTION:It’s the holiday season at the NIA and we hope you can join us for our annual NIA Holiday Kid‘s Party! We will have holiday-themed activities\, snacks\, and drinks! \nDue to indoor capacity\, registration will be limited as follows:\n–NIA Members only\n-50 children total (25 children per time slot)\n-Adults will be limited to 1 Adult per child indoors\n-A waiting list will be created once the 50 spots are filled \nNO WALK-INS since we need to order our fun holiday crafts ahead of time and house space is limited! \nREGISTRATION INFO\nDue to popular demand\, this event will be limited to NIA members only\, membership status will be verified after registration. Registration opens on Saturday\, November 11th at 8am. \nPlease choose a time slot:\nTime slot: 3-4pm 25 Kids\nTime slot: 4-5pm 25 Kids \nPlease only include child count in your registration! If all time slots are full\, you can be added to the waitlist. \nRegister now here.\nQuestions? Contact Aarika at events@niatrumbull.org. \n 
URL:https://niatrumbull.org/event/kids-holiday-party/
END:VEVENT
BEGIN:VEVENT
DTSTART;TZID=America/New_York:20231203T180000
DTEND;TZID=America/New_York:20231203T193000
DTSTAMP:20260421T070919
CREATED:20230925T000023Z
LAST-MODIFIED:20231120T213549Z
UID:10001386-1701626400-1701631800@niatrumbull.org
SUMMARY:Tree Lighting
DESCRIPTION:Help us light up Nichols!  Please join us for our Annual Tree Lighting & musical performance by the Hillcrest Choraleers. Rumor has it that Santa will be taking a break from the North Pole to make a special visit to Nichols! The event will take place on the NIA Green – You may park at the NIA parking lot and walk over (please use the crosswalk) or the local church parking lots. Please do not park in NUMC driveway as Santa needs a place to get out!
URL:https://niatrumbull.org/event/tree-lighting/
ATTACH;FMTTYPE=image/png:https://niatrumbull.org/wp-content/uploads/2023/09/Holiday-Tree-Lighting.png
END:VEVENT
BEGIN:VEVENT
DTSTART;TZID=America/New_York:20231216T170000
DTEND;TZID=America/New_York:20231216T190000
DTSTAMP:20260421T070919
CREATED:20230802T224739Z
LAST-MODIFIED:20231215T133534Z
UID:10001343-1702746000-1702753200@niatrumbull.org
SUMMARY:Bonfire Night
DESCRIPTION:NEW DATE ALERT!! The NIA Bonfire Night will now be Saturday\, December 16th at 5pm\, due to the significant rainfall expected on Sunday. We are sorry for the last minute date change\, but Mother Nature is bringing us all the rain this year. We hope you can still join us! Please spread the word.\n\n\n\nParking will be on the gazebo lawn next to the NIA parking lot and down the street at Trinity Episcopal Church. Please do not park on Huntington Turnpike or at Nichols United Methodist Church.
URL:https://niatrumbull.org/event/bonfire-night/
ATTACH;FMTTYPE=image/png:https://niatrumbull.org/wp-content/uploads/2023/08/5.png
END:VEVENT
BEGIN:VEVENT
DTSTART;TZID=America/New_York:20231218T140000
DTEND;TZID=America/New_York:20231218T160000
DTSTAMP:20260421T070919
CREATED:20230802T224606Z
LAST-MODIFIED:20230926T122735Z
UID:10001341-1702908000-1702915200@niatrumbull.org
SUMMARY:Annual Great Nichols Holiday Lights Contest
DESCRIPTION:
URL:https://niatrumbull.org/event/annual-great-nichols-holiday-lights-contest/
END:VEVENT
END:VCALENDAR