BEGIN:VCALENDAR
VERSION:2.0
PRODID:-//Nichols Improvement Association - ECPv6.15.20//NONSGML v1.0//EN
CALSCALE:GREGORIAN
METHOD:PUBLISH
X-WR-CALNAME:Nichols Improvement Association
X-ORIGINAL-URL:https://niatrumbull.org
X-WR-CALDESC:Events for Nichols Improvement Association
REFRESH-INTERVAL;VALUE=DURATION:PT1H
X-Robots-Tag:noindex
X-PUBLISHED-TTL:PT1H
BEGIN:VTIMEZONE
TZID:America/New_York
BEGIN:DAYLIGHT
TZOFFSETFROM:-0500
TZOFFSETTO:-0400
TZNAME:EDT
DTSTART:20220313T070000
END:DAYLIGHT
BEGIN:STANDARD
TZOFFSETFROM:-0400
TZOFFSETTO:-0500
TZNAME:EST
DTSTART:20221106T060000
END:STANDARD
BEGIN:DAYLIGHT
TZOFFSETFROM:-0500
TZOFFSETTO:-0400
TZNAME:EDT
DTSTART:20230312T070000
END:DAYLIGHT
BEGIN:STANDARD
TZOFFSETFROM:-0400
TZOFFSETTO:-0500
TZNAME:EST
DTSTART:20231105T060000
END:STANDARD
BEGIN:DAYLIGHT
TZOFFSETFROM:-0500
TZOFFSETTO:-0400
TZNAME:EDT
DTSTART:20240310T070000
END:DAYLIGHT
BEGIN:STANDARD
TZOFFSETFROM:-0400
TZOFFSETTO:-0500
TZNAME:EST
DTSTART:20241103T060000
END:STANDARD
END:VTIMEZONE
BEGIN:VEVENT
DTSTART;TZID=America/New_York:20230831T160000
DTEND;TZID=America/New_York:20230831T190000
DTSTAMP:20260419T172211
CREATED:20230830T014210Z
LAST-MODIFIED:20230830T014210Z
UID:10001359-1693497600-1693508400@niatrumbull.org
SUMMARY:Wendy & Shag
DESCRIPTION:Performing at the Farmers Market on August 31st!
URL:https://niatrumbull.org/event/wendy-shag/
LOCATION:CT
CATEGORIES:Nichols Farmers Market
ATTACH;FMTTYPE=image/jpeg:https://niatrumbull.org/wp-content/uploads/2023/08/livemusic.jpg
END:VEVENT
BEGIN:VEVENT
DTSTART;TZID=America/New_York:20230831T160000
DTEND;TZID=America/New_York:20230831T190000
DTSTAMP:20260419T172211
CREATED:20230516T054851Z
LAST-MODIFIED:20230921T162231Z
UID:10001376-1693497600-1693508400@niatrumbull.org
SUMMARY:Nichols Farmers Market
DESCRIPTION:
URL:https://niatrumbull.org/event/nichols-farmers-market-2/2023-08-31/
LOCATION:Starkweather House – 1773 Huntington Turnpike\, Trumbull\, CT 06611\, USA\, 1773 Huntington Turnpike\, Trumbull\, CT\, 06611\, United States
CATEGORIES:Nichols Farmers Market
ATTACH;FMTTYPE=image/webp:https://niatrumbull.org/wp-content/uploads/2023/05/Screenshot-2023-03-29-at-10_11_28-PM-2.webp
END:VEVENT
BEGIN:VEVENT
DTSTART;TZID=America/New_York:20230826T053000
DTEND;TZID=America/New_York:20230826T063000
DTSTAMP:20260419T172211
CREATED:20230805T032335Z
LAST-MODIFIED:20230811T015816Z
UID:10001344-1693027800-1693031400@niatrumbull.org
SUMMARY:Toddler Music Class at the NIA!
DESCRIPTION:Come down to the NIA house for a free toddler music class! Dance with your little 1-4 year old while meeting and chatting with other members. This workshop will be held on August 26th at 9:30am. Please sign up because space is limited! \nMeet our instructor 🎼: Angie Hudak is a certified MusikGarten teacher and has been teaching early childhood music classes for 20 years. She holds a Bachelors in Music Performance and Masters in Music Education from the University of Miami\, FL.
URL:https://niatrumbull.org/event/toddler-music-class-at-the-nia/
LOCATION:Starkweather House – 1773 Huntington Turnpike\, Trumbull\, CT 06611\, USA\, 1773 Huntington Turnpike\, Trumbull\, CT\, 06611\, United States
CATEGORIES:Workshops
ATTACH;FMTTYPE=image/jpeg:https://niatrumbull.org/wp-content/uploads/2023/08/MTPic85-web.jpg
ORGANIZER;CN="Nichols Improvement Association":MAILTO:events@niatrumbull.org
END:VEVENT
BEGIN:VEVENT
DTSTART;TZID=America/New_York:20230824T160000
DTEND;TZID=America/New_York:20230824T190000
DTSTAMP:20260419T172211
CREATED:20230808T012424Z
LAST-MODIFIED:20230808T012530Z
UID:10001348-1692892800-1692903600@niatrumbull.org
SUMMARY:Sal Basile
DESCRIPTION:Sal Basile has been performing for the past 30 years. High energy\, audience engaging and dynamic entertaining is what Sal is all about. A retired English teacher of 35 years from Hartford Public Schools\, he always kept his hands and voice steeped in singing and guitar. Sal’s repertoire includes songs from Dion to Adele\, Elvis to Harry Styles\, Beatles to Journey\, and Chuck Berry to Ed Sheeran…all fun\, happy and entertaining! We are excited to welcome Sal to NFM this season!\nFollow on social:\nFacebook: Salvatore Basile\nInstagram: @turimio50
URL:https://niatrumbull.org/event/sal-basile/
LOCATION:CT
CATEGORIES:Nichols Farmers Market
ATTACH;FMTTYPE=image/jpeg:https://niatrumbull.org/wp-content/uploads/2023/08/362278062_749638087168827_2496104163539129103_n.jpg
END:VEVENT
BEGIN:VEVENT
DTSTART;TZID=America/New_York:20230824T160000
DTEND;TZID=America/New_York:20230824T190000
DTSTAMP:20260419T172211
CREATED:20230516T054851Z
LAST-MODIFIED:20230921T162231Z
UID:10001375-1692892800-1692903600@niatrumbull.org
SUMMARY:Nichols Farmers Market
DESCRIPTION:
URL:https://niatrumbull.org/event/nichols-farmers-market-2/2023-08-24/
LOCATION:Starkweather House – 1773 Huntington Turnpike\, Trumbull\, CT 06611\, USA\, 1773 Huntington Turnpike\, Trumbull\, CT\, 06611\, United States
CATEGORIES:Nichols Farmers Market
ATTACH;FMTTYPE=image/webp:https://niatrumbull.org/wp-content/uploads/2023/05/Screenshot-2023-03-29-at-10_11_28-PM-2.webp
END:VEVENT
BEGIN:VEVENT
DTSTART;TZID=America/New_York:20230817T160000
DTEND;TZID=America/New_York:20230817T190000
DTSTAMP:20260419T172211
CREATED:20230808T011904Z
LAST-MODIFIED:20230808T011904Z
UID:10001347-1692288000-1692298800@niatrumbull.org
SUMMARY:Peace At OM
DESCRIPTION:Wendy Simmons-Taylor & Robert Ortner are two like-minded musicians and yogis who want to spread peace\, love\, and harmony throughout the land! They are multi-instrumentalists\, providing acoustic/electric guitar and bass and harmonium\, with friends on keyboards\, drums and flute. “Peace at Om”\, their self-titled CD\, was released in 2020\, with their follow-up released in 2022\, “Tomorrow Never Knows”.  Wendy and Robert are currently at work on their third CD to be released this summer! Peace at Om was created with tender\, loving care and gratitude as they continue on their musical journey to write original music dedicated to all people seeking peace and equality. Welcome back to NFM Wendy and Robert!\nFollow on social:\nFacebook: PeaceAtOmMusic\nYouTube: PeaceAtOm\nwww.butchtaylor.com/peace-at-om\nwww.peace-at-om.bandcamp.com\nCDs available on all streaming platforms: https://peace-at-om.hearnow.com/
URL:https://niatrumbull.org/event/peace-at-om/
LOCATION:CT
CATEGORIES:Nichols Farmers Market
ATTACH;FMTTYPE=image/jpeg:https://niatrumbull.org/wp-content/uploads/2023/08/a1977173873_16.jpg
END:VEVENT
BEGIN:VEVENT
DTSTART;TZID=America/New_York:20230817T160000
DTEND;TZID=America/New_York:20230817T190000
DTSTAMP:20260419T172211
CREATED:20230516T054851Z
LAST-MODIFIED:20230921T162231Z
UID:10001374-1692288000-1692298800@niatrumbull.org
SUMMARY:Nichols Farmers Market
DESCRIPTION:
URL:https://niatrumbull.org/event/nichols-farmers-market-2/2023-08-17/
LOCATION:Starkweather House – 1773 Huntington Turnpike\, Trumbull\, CT 06611\, USA\, 1773 Huntington Turnpike\, Trumbull\, CT\, 06611\, United States
CATEGORIES:Nichols Farmers Market
ATTACH;FMTTYPE=image/webp:https://niatrumbull.org/wp-content/uploads/2023/05/Screenshot-2023-03-29-at-10_11_28-PM-2.webp
END:VEVENT
BEGIN:VEVENT
DTSTART;TZID=America/New_York:20230810T160000
DTEND;TZID=America/New_York:20230810T190000
DTSTAMP:20260419T172211
CREATED:20230808T011514Z
LAST-MODIFIED:20230829T014209Z
UID:10001346-1691683200-1691694000@niatrumbull.org
SUMMARY:Liz Reed
DESCRIPTION:Liz Reed is a dynamic singer/songwriter from the Hartford area. Her upbeat and introspective original songs will make you laugh\, and maybe even sing along. Liz also performs fun pop songs from the last 5 or 6 decades\, so come prepared to move\, clap and have a great time! Liz is making her NFM debut with us this season!\nFollow on social:\nYouTube and TikTok: @songwriterliz\nFacebook: lizreedmusic www.lizreedmusic.com
URL:https://niatrumbull.org/event/liz-reed-farmers-market/2023-08-10/
LOCATION:CT
CATEGORIES:Nichols Farmers Market
ATTACH;FMTTYPE=image/jpeg:https://niatrumbull.org/wp-content/uploads/2023/08/Wagon.jpg
END:VEVENT
BEGIN:VEVENT
DTSTART;TZID=America/New_York:20230810T160000
DTEND;TZID=America/New_York:20230810T190000
DTSTAMP:20260419T172211
CREATED:20230516T054851Z
LAST-MODIFIED:20230921T162231Z
UID:10001373-1691683200-1691694000@niatrumbull.org
SUMMARY:Nichols Farmers Market
DESCRIPTION:
URL:https://niatrumbull.org/event/nichols-farmers-market-2/2023-08-10/
LOCATION:Starkweather House – 1773 Huntington Turnpike\, Trumbull\, CT 06611\, USA\, 1773 Huntington Turnpike\, Trumbull\, CT\, 06611\, United States
CATEGORIES:Nichols Farmers Market
ATTACH;FMTTYPE=image/webp:https://niatrumbull.org/wp-content/uploads/2023/05/Screenshot-2023-03-29-at-10_11_28-PM-2.webp
END:VEVENT
BEGIN:VEVENT
DTSTART;TZID=America/New_York:20230803T160000
DTEND;TZID=America/New_York:20230803T190000
DTSTAMP:20260419T172211
CREATED:20230516T054851Z
LAST-MODIFIED:20230921T162231Z
UID:10001372-1691078400-1691089200@niatrumbull.org
SUMMARY:Nichols Farmers Market
DESCRIPTION:
URL:https://niatrumbull.org/event/nichols-farmers-market-2/2023-08-03/
LOCATION:Starkweather House – 1773 Huntington Turnpike\, Trumbull\, CT 06611\, USA\, 1773 Huntington Turnpike\, Trumbull\, CT\, 06611\, United States
CATEGORIES:Nichols Farmers Market
ATTACH;FMTTYPE=image/webp:https://niatrumbull.org/wp-content/uploads/2023/05/Screenshot-2023-03-29-at-10_11_28-PM-2.webp
END:VEVENT
BEGIN:VEVENT
DTSTART;TZID=America/New_York:20230727T160000
DTEND;TZID=America/New_York:20230727T190000
DTSTAMP:20260419T172211
CREATED:20230516T054851Z
LAST-MODIFIED:20230921T162231Z
UID:10001371-1690473600-1690484400@niatrumbull.org
SUMMARY:Nichols Farmers Market
DESCRIPTION:
URL:https://niatrumbull.org/event/nichols-farmers-market-2/2023-07-27/
LOCATION:Starkweather House – 1773 Huntington Turnpike\, Trumbull\, CT 06611\, USA\, 1773 Huntington Turnpike\, Trumbull\, CT\, 06611\, United States
CATEGORIES:Nichols Farmers Market
ATTACH;FMTTYPE=image/webp:https://niatrumbull.org/wp-content/uploads/2023/05/Screenshot-2023-03-29-at-10_11_28-PM-2.webp
END:VEVENT
BEGIN:VEVENT
DTSTART;VALUE=DATE:20230725
DTEND;VALUE=DATE:20230729
DTSTAMP:20260419T172211
CREATED:20230405T112920Z
LAST-MODIFIED:20230802T221522Z
UID:10001267-1690257600-1690549200@niatrumbull.org
SUMMARY:Adult Kickball League
DESCRIPTION:
URL:https://niatrumbull.org/event/adult-kickball-league/2023-07-25/
LOCATION:CT
ATTACH;FMTTYPE=image/png:https://niatrumbull.org/wp-content/uploads/2023/04/profile_NIAKBL_logo_1.png
END:VEVENT
BEGIN:VEVENT
DTSTART;TZID=America/New_York:20230720T160000
DTEND;TZID=America/New_York:20230720T190000
DTSTAMP:20260419T172211
CREATED:20230516T054851Z
LAST-MODIFIED:20230921T162231Z
UID:10001370-1689868800-1689879600@niatrumbull.org
SUMMARY:Nichols Farmers Market
DESCRIPTION:
URL:https://niatrumbull.org/event/nichols-farmers-market-2/2023-07-20/
LOCATION:Starkweather House – 1773 Huntington Turnpike\, Trumbull\, CT 06611\, USA\, 1773 Huntington Turnpike\, Trumbull\, CT\, 06611\, United States
CATEGORIES:Nichols Farmers Market
ATTACH;FMTTYPE=image/webp:https://niatrumbull.org/wp-content/uploads/2023/05/Screenshot-2023-03-29-at-10_11_28-PM-2.webp
END:VEVENT
BEGIN:VEVENT
DTSTART;VALUE=DATE:20230719
DTEND;VALUE=DATE:20230720
DTSTAMP:20260419T172211
CREATED:20230405T112920Z
LAST-MODIFIED:20230802T221522Z
UID:10001266-1689739200-1689771600@niatrumbull.org
SUMMARY:Adult Kickball League
DESCRIPTION:
URL:https://niatrumbull.org/event/adult-kickball-league/2023-07-19/
LOCATION:CT
ATTACH;FMTTYPE=image/png:https://niatrumbull.org/wp-content/uploads/2023/04/profile_NIAKBL_logo_1.png
END:VEVENT
BEGIN:VEVENT
DTSTART;VALUE=DATE:20230718
DTEND;VALUE=DATE:20230719
DTSTAMP:20260419T172211
CREATED:20230405T112920Z
LAST-MODIFIED:20230802T221522Z
UID:10001265-1689652800-1689685200@niatrumbull.org
SUMMARY:Adult Kickball League
DESCRIPTION:
URL:https://niatrumbull.org/event/adult-kickball-league/2023-07-18/
LOCATION:CT
ATTACH;FMTTYPE=image/png:https://niatrumbull.org/wp-content/uploads/2023/04/profile_NIAKBL_logo_1.png
END:VEVENT
BEGIN:VEVENT
DTSTART;TZID=America/New_York:20230713T160000
DTEND;TZID=America/New_York:20230713T190000
DTSTAMP:20260419T172211
CREATED:20230516T054851Z
LAST-MODIFIED:20230921T162231Z
UID:10001369-1689264000-1689274800@niatrumbull.org
SUMMARY:Nichols Farmers Market
DESCRIPTION:
URL:https://niatrumbull.org/event/nichols-farmers-market-2/2023-07-13/
LOCATION:Starkweather House – 1773 Huntington Turnpike\, Trumbull\, CT 06611\, USA\, 1773 Huntington Turnpike\, Trumbull\, CT\, 06611\, United States
CATEGORIES:Nichols Farmers Market
ATTACH;FMTTYPE=image/webp:https://niatrumbull.org/wp-content/uploads/2023/05/Screenshot-2023-03-29-at-10_11_28-PM-2.webp
END:VEVENT
BEGIN:VEVENT
DTSTART;VALUE=DATE:20230712
DTEND;VALUE=DATE:20230713
DTSTAMP:20260419T172211
CREATED:20230405T112920Z
LAST-MODIFIED:20230802T221522Z
UID:10001264-1689134400-1689166800@niatrumbull.org
SUMMARY:Adult Kickball League
DESCRIPTION:
URL:https://niatrumbull.org/event/adult-kickball-league/2023-07-12/
LOCATION:CT
ATTACH;FMTTYPE=image/png:https://niatrumbull.org/wp-content/uploads/2023/04/profile_NIAKBL_logo_1.png
END:VEVENT
BEGIN:VEVENT
DTSTART;VALUE=DATE:20230711
DTEND;VALUE=DATE:20230712
DTSTAMP:20260419T172211
CREATED:20230405T112920Z
LAST-MODIFIED:20230802T221522Z
UID:10001263-1689048000-1689080400@niatrumbull.org
SUMMARY:Adult Kickball League
DESCRIPTION:
URL:https://niatrumbull.org/event/adult-kickball-league/2023-07-11/
LOCATION:CT
ATTACH;FMTTYPE=image/png:https://niatrumbull.org/wp-content/uploads/2023/04/profile_NIAKBL_logo_1.png
END:VEVENT
BEGIN:VEVENT
DTSTART;TZID=America/New_York:20230706T160000
DTEND;TZID=America/New_York:20230706T190000
DTSTAMP:20260419T172211
CREATED:20230516T054851Z
LAST-MODIFIED:20230921T162231Z
UID:10001368-1688659200-1688670000@niatrumbull.org
SUMMARY:Nichols Farmers Market
DESCRIPTION:
URL:https://niatrumbull.org/event/nichols-farmers-market-2/2023-07-06/
LOCATION:Starkweather House – 1773 Huntington Turnpike\, Trumbull\, CT 06611\, USA\, 1773 Huntington Turnpike\, Trumbull\, CT\, 06611\, United States
CATEGORIES:Nichols Farmers Market
ATTACH;FMTTYPE=image/webp:https://niatrumbull.org/wp-content/uploads/2023/05/Screenshot-2023-03-29-at-10_11_28-PM-2.webp
END:VEVENT
BEGIN:VEVENT
DTSTART;VALUE=DATE:20230705
DTEND;VALUE=DATE:20230706
DTSTAMP:20260419T172211
CREATED:20230405T112920Z
LAST-MODIFIED:20230802T221522Z
UID:10001262-1688529600-1688562000@niatrumbull.org
SUMMARY:Adult Kickball League
DESCRIPTION:
URL:https://niatrumbull.org/event/adult-kickball-league/2023-07-05/
LOCATION:CT
ATTACH;FMTTYPE=image/png:https://niatrumbull.org/wp-content/uploads/2023/04/profile_NIAKBL_logo_1.png
END:VEVENT
BEGIN:VEVENT
DTSTART;VALUE=DATE:20230704
DTEND;VALUE=DATE:20230705
DTSTAMP:20260419T172211
CREATED:20230405T112920Z
LAST-MODIFIED:20230802T221522Z
UID:10001261-1688443200-1688475600@niatrumbull.org
SUMMARY:Adult Kickball League
DESCRIPTION:
URL:https://niatrumbull.org/event/adult-kickball-league/2023-07-04/
LOCATION:CT
ATTACH;FMTTYPE=image/png:https://niatrumbull.org/wp-content/uploads/2023/04/profile_NIAKBL_logo_1.png
END:VEVENT
BEGIN:VEVENT
DTSTART;TZID=America/New_York:20230629T160000
DTEND;TZID=America/New_York:20230629T190000
DTSTAMP:20260419T172211
CREATED:20230516T054851Z
LAST-MODIFIED:20230921T162231Z
UID:10001367-1688054400-1688065200@niatrumbull.org
SUMMARY:Nichols Farmers Market
DESCRIPTION:
URL:https://niatrumbull.org/event/nichols-farmers-market-2/2023-06-29/
LOCATION:Starkweather House – 1773 Huntington Turnpike\, Trumbull\, CT 06611\, USA\, 1773 Huntington Turnpike\, Trumbull\, CT\, 06611\, United States
CATEGORIES:Nichols Farmers Market
ATTACH;FMTTYPE=image/webp:https://niatrumbull.org/wp-content/uploads/2023/05/Screenshot-2023-03-29-at-10_11_28-PM-2.webp
END:VEVENT
BEGIN:VEVENT
DTSTART;VALUE=DATE:20230628
DTEND;VALUE=DATE:20230629
DTSTAMP:20260419T172211
CREATED:20230405T112920Z
LAST-MODIFIED:20230802T221522Z
UID:10001260-1687924800-1687957200@niatrumbull.org
SUMMARY:Adult Kickball League
DESCRIPTION:
URL:https://niatrumbull.org/event/adult-kickball-league/2023-06-28/
LOCATION:CT
ATTACH;FMTTYPE=image/png:https://niatrumbull.org/wp-content/uploads/2023/04/profile_NIAKBL_logo_1.png
END:VEVENT
BEGIN:VEVENT
DTSTART;TZID=America/New_York:20230627T040000
DTEND;TZID=America/New_York:20230804T130000
DTSTAMP:20260419T172211
CREATED:20230411T050520Z
LAST-MODIFIED:20230802T183057Z
UID:10001052-1687838400-1691154000@niatrumbull.org
SUMMARY:NIA Camp Starkweather
DESCRIPTION:
URL:https://niatrumbull.org/event/nia-camp-starkweather-3-2/
LOCATION:CT
ATTACH;FMTTYPE=image/webp:https://niatrumbull.org/wp-content/uploads/2023/04/NIA.webp
END:VEVENT
BEGIN:VEVENT
DTSTART;VALUE=DATE:20230627
DTEND;VALUE=DATE:20230628
DTSTAMP:20260419T172211
CREATED:20230405T112920Z
LAST-MODIFIED:20230802T221522Z
UID:10001259-1687838400-1687870800@niatrumbull.org
SUMMARY:Adult Kickball League
DESCRIPTION:
URL:https://niatrumbull.org/event/adult-kickball-league/2023-06-27/
LOCATION:CT
ATTACH;FMTTYPE=image/png:https://niatrumbull.org/wp-content/uploads/2023/04/profile_NIAKBL_logo_1.png
END:VEVENT
BEGIN:VEVENT
DTSTART;TZID=America/New_York:20230622T160000
DTEND;TZID=America/New_York:20230622T190000
DTSTAMP:20260419T172211
CREATED:20230516T054851Z
LAST-MODIFIED:20230921T162231Z
UID:10001366-1687449600-1687460400@niatrumbull.org
SUMMARY:Nichols Farmers Market
DESCRIPTION:
URL:https://niatrumbull.org/event/nichols-farmers-market-2/2023-06-22/
LOCATION:Starkweather House – 1773 Huntington Turnpike\, Trumbull\, CT 06611\, USA\, 1773 Huntington Turnpike\, Trumbull\, CT\, 06611\, United States
CATEGORIES:Nichols Farmers Market
ATTACH;FMTTYPE=image/webp:https://niatrumbull.org/wp-content/uploads/2023/05/Screenshot-2023-03-29-at-10_11_28-PM-2.webp
END:VEVENT
BEGIN:VEVENT
DTSTART;VALUE=DATE:20230621
DTEND;VALUE=DATE:20230622
DTSTAMP:20260419T172211
CREATED:20230405T112920Z
LAST-MODIFIED:20230802T221522Z
UID:10001258-1687320000-1687352400@niatrumbull.org
SUMMARY:Adult Kickball League
DESCRIPTION:
URL:https://niatrumbull.org/event/adult-kickball-league/2023-06-21/
LOCATION:CT
ATTACH;FMTTYPE=image/png:https://niatrumbull.org/wp-content/uploads/2023/04/profile_NIAKBL_logo_1.png
END:VEVENT
BEGIN:VEVENT
DTSTART;VALUE=DATE:20230620
DTEND;VALUE=DATE:20230621
DTSTAMP:20260419T172211
CREATED:20230405T112920Z
LAST-MODIFIED:20230802T221522Z
UID:10001257-1687233600-1687266000@niatrumbull.org
SUMMARY:Adult Kickball League
DESCRIPTION:
URL:https://niatrumbull.org/event/adult-kickball-league/2023-06-20/
LOCATION:CT
ATTACH;FMTTYPE=image/png:https://niatrumbull.org/wp-content/uploads/2023/04/profile_NIAKBL_logo_1.png
END:VEVENT
BEGIN:VEVENT
DTSTART;TZID=America/New_York:20230615T160000
DTEND;TZID=America/New_York:20230615T190000
DTSTAMP:20260419T172211
CREATED:20230516T054851Z
LAST-MODIFIED:20230921T162231Z
UID:10001365-1686844800-1686855600@niatrumbull.org
SUMMARY:Nichols Farmers Market
DESCRIPTION:
URL:https://niatrumbull.org/event/nichols-farmers-market-2/2023-06-15/
LOCATION:Starkweather House – 1773 Huntington Turnpike\, Trumbull\, CT 06611\, USA\, 1773 Huntington Turnpike\, Trumbull\, CT\, 06611\, United States
CATEGORIES:Nichols Farmers Market
ATTACH;FMTTYPE=image/webp:https://niatrumbull.org/wp-content/uploads/2023/05/Screenshot-2023-03-29-at-10_11_28-PM-2.webp
END:VEVENT
BEGIN:VEVENT
DTSTART;VALUE=DATE:20230614
DTEND;VALUE=DATE:20230615
DTSTAMP:20260419T172211
CREATED:20230405T112920Z
LAST-MODIFIED:20230802T221522Z
UID:10001256-1686715200-1686747600@niatrumbull.org
SUMMARY:Adult Kickball League
DESCRIPTION:
URL:https://niatrumbull.org/event/adult-kickball-league/2023-06-14/
LOCATION:CT
ATTACH;FMTTYPE=image/png:https://niatrumbull.org/wp-content/uploads/2023/04/profile_NIAKBL_logo_1.png
END:VEVENT
END:VCALENDAR